BEGIN:VCALENDAR
VERSION:2.0
PRODID:-//www.gramonet.cz//GramonetCalLib 1.0//EN
CALSCALE:GREGORIAN
METHOD:PUBLISH
BEGIN:VEVENT
SUMMARY:Veletrh regionálních potravin
LOCATION:Klášter sv. Voršily, Vinné sklepy Kutná Hora
DTSTART:20240423T000000
DTEND:20240424T000000
UID:2026-04-19-19-34-34@infocaslav.cz
DTSTAMP:20260419T173434
Description:
END:VEVENT
END:VCALENDAR
