BEGIN:VCALENDAR
VERSION:2.0
PRODID:-//www.gramonet.cz//GramonetCalLib 1.0//EN
CALSCALE:GREGORIAN
METHOD:PUBLISH
BEGIN:VEVENT
SUMMARY:Veletrh učebních a studijních oborů
LOCATION:Kulturní dům Lorec, Kutná Hora
DTSTART:20241009T000000
DTEND:20241010T000000
UID:2026-04-19-19-34-28@infocaslav.cz
DTSTAMP:20260419T173428
Description:Školy a učiliště z okresů Kutná Hora\, Kolín a dalších
  regionů představí možnosti středoškolského vzdělávání. Získá
 te informace o podmínkách přijetí a průběhu studia. Prohlédnete si 
 ukázky studentských u učňovských prací.
END:VEVENT
END:VCALENDAR
