BEGIN:VCALENDAR
VERSION:2.0
PRODID:-//www.gramonet.cz//GramonetCalLib 1.0//EN
CALSCALE:GREGORIAN
METHOD:PUBLISH
BEGIN:VEVENT
SUMMARY:Velikonoční dílna pro děti i dospělé
LOCATION:Knihovna Čáslav
DTSTART:20240327T000000
DTEND:20240328T000000
UID:2026-04-19-19-36-49@infocaslav.cz
DTSTAMP:20260419T173649
Description:
END:VEVENT
END:VCALENDAR
