BEGIN:VCALENDAR
VERSION:2.0
PRODID:-//www.gramonet.cz//GramonetCalLib 1.0//EN
CALSCALE:GREGORIAN
METHOD:PUBLISH
BEGIN:VEVENT
SUMMARY:Velikonoční jízdy řepařskou drážkou
LOCATION:Kolínská řepařská drážka
DTSTART:20240330T000000
DTEND:20240401T000000
UID:2026-04-19-19-36-50@infocaslav.cz
DTSTAMP:20260419T173650
Description:
END:VEVENT
END:VCALENDAR
