BEGIN:VCALENDAR
VERSION:2.0
PRODID:-//www.gramonet.cz//GramonetCalLib 1.0//EN
CALSCALE:GREGORIAN
METHOD:PUBLISH
BEGIN:VEVENT
SUMMARY:Velikonoční rodinná dílna
LOCATION:RC Kopretina
DTSTART:20230330T000000
DTEND:20230331T000000
UID:2026-04-19-19-36-04@infocaslav.cz
DTSTAMP:20260419T173604
Description:
END:VEVENT
END:VCALENDAR
