BEGIN:VCALENDAR
VERSION:2.0
PRODID:-//www.gramonet.cz//GramonetCalLib 1.0//EN
CALSCALE:GREGORIAN
METHOD:PUBLISH
BEGIN:VEVENT
SUMMARY:Velikonoční tvořivá dílna
LOCATION:Evangelická fara
DTSTART:20230402T000000
DTEND:20230403T000000
UID:2026-04-19-19-35-53@infocaslav.cz
DTSTAMP:20260419T173553
Description:
END:VEVENT
END:VCALENDAR
