BEGIN:VCALENDAR
VERSION:2.0
PRODID:-//www.gramonet.cz//GramonetCalLib 1.0//EN
CALSCALE:GREGORIAN
METHOD:PUBLISH
BEGIN:VEVENT
SUMMARY:Velké trhy
LOCATION:nám. Jana Žižky z Trocnova
DTSTART:20221220T000000
DTEND:20221221T000000
UID:2026-04-19-19-31-12@infocaslav.cz
DTSTAMP:20260419T173112
Description:
END:VEVENT
END:VCALENDAR
