BEGIN:VCALENDAR
VERSION:2.0
PRODID:-//www.gramonet.cz//GramonetCalLib 1.0//EN
CALSCALE:GREGORIAN
METHOD:PUBLISH
BEGIN:VEVENT
SUMMARY:Velké trhy
LOCATION:náměstí Jana Žižky
DTSTART:20230627T000000
DTEND:20221122T000000
UID:2026-04-19-19-31-10@infocaslav.cz
DTSTAMP:20260419T173110
Description:
END:VEVENT
END:VCALENDAR
