BEGIN:VCALENDAR
VERSION:2.0
PRODID:-//www.gramonet.cz//GramonetCalLib 1.0//EN
CALSCALE:GREGORIAN
METHOD:PUBLISH
BEGIN:VEVENT
SUMMARY:Velké trhy
LOCATION:náměstí Jana Žižky
DTSTART:20231219T000000
DTEND:20231220T000000
UID:2026-04-19-19-31-05@infocaslav.cz
DTSTAMP:20260419T173105
Description:
END:VEVENT
END:VCALENDAR
