BEGIN:VCALENDAR
VERSION:2.0
PRODID:-//www.gramonet.cz//GramonetCalLib 1.0//EN
CALSCALE:GREGORIAN
METHOD:PUBLISH
BEGIN:VEVENT
SUMMARY:Velké trhy
LOCATION:nám. Jana Žižky z Trocnova
DTSTART:20220329T000000
DTEND:20220330T000000
UID:2026-04-19-19-29-39@infocaslav.cz
DTSTAMP:20260419T172939
Description:
END:VEVENT
END:VCALENDAR
