BEGIN:VCALENDAR
VERSION:2.0
PRODID:-//www.gramonet.cz//GramonetCalLib 1.0//EN
CALSCALE:GREGORIAN
METHOD:PUBLISH
BEGIN:VEVENT
SUMMARY:VELKOPÁTEČNÍ HUDEBNÍ NEŠPORY
LOCATION:evangelický kostel, Jana Karafiáta 158
DTSTART:20220415T000000
DTEND:20220416T000000
UID:2026-04-19-19-34-48@infocaslav.cz
DTSTAMP:20260419T173448
Description:
END:VEVENT
END:VCALENDAR
