BEGIN:VCALENDAR
VERSION:2.0
PRODID:-//www.gramonet.cz//GramonetCalLib 1.0//EN
CALSCALE:GREGORIAN
METHOD:PUBLISH
BEGIN:VEVENT
SUMMARY:Veřejné čtení jmen obětí holocaustu
LOCATION:Náměstí Jana Žižky z Trocnova - před IC
DTSTART:20240506T000000
DTEND:20240507T000000
UID:2026-04-19-21-16-08@infocaslav.cz
DTSTAMP:20260419T191608
Description:
END:VEVENT
END:VCALENDAR
