BEGIN:VCALENDAR
VERSION:2.0
PRODID:-//www.gramonet.cz//GramonetCalLib 1.0//EN
CALSCALE:GREGORIAN
METHOD:PUBLISH
BEGIN:VEVENT
SUMMARY:VESELÉ POSTAVIČKY Z OVOCE A ZELENINY
LOCATION:Rodinné centrum Kopretina, Kostelní náměstí 186/2
DTSTART:20220609T000000
DTEND:20220610T000000
UID:2026-04-19-19-35-59@infocaslav.cz
DTSTAMP:20260419T173559
Description:
END:VEVENT
END:VCALENDAR
