BEGIN:VCALENDAR
VERSION:2.0
PRODID:-//www.gramonet.cz//GramonetCalLib 1.0//EN
CALSCALE:GREGORIAN
METHOD:PUBLISH
BEGIN:VEVENT
SUMMARY:Veteran Rallye 2022
LOCATION:náměstí Jana Žižky
DTSTART:20220820T000000
DTEND:20220821T000000
UID:2026-04-19-21-06-59@infocaslav.cz
DTSTAMP:20260419T190659
Description:
END:VEVENT
END:VCALENDAR
