BEGIN:VCALENDAR
VERSION:2.0
PRODID:-//www.gramonet.cz//GramonetCalLib 1.0//EN
CALSCALE:GREGORIAN
METHOD:PUBLISH
BEGIN:VEVENT
SUMMARY:VII. Charitativní bazar
LOCATION:Kulturní dům Lorec, Kutná Hora
DTSTART:20240823T000000
DTEND:20240826T000000
UID:2026-04-19-19-33-34@infocaslav.cz
DTSTAMP:20260419T173334
Description:Ve dnech od 23.8. 2024 do 25.8. 2024 proběhne již VII. Charit
 ativní bazar na podporu neziskové organizace "Liga na ochranu zvířat K
 utná Hora".
END:VEVENT
END:VCALENDAR
