BEGIN:VCALENDAR
VERSION:2.0
PRODID:-//www.gramonet.cz//GramonetCalLib 1.0//EN
CALSCALE:GREGORIAN
METHOD:PUBLISH
BEGIN:VEVENT
SUMMARY:Víkend otevřených zahrad
LOCATION:Zámek Kačina, Svatý Mikuláš
DTSTART:20220611T000000
DTEND:20220613T000000
UID:2026-04-19-19-33-33@infocaslav.cz
DTSTAMP:20260419T173333
Description:
END:VEVENT
END:VCALENDAR
