BEGIN:VCALENDAR
VERSION:2.0
PRODID:-//www.gramonet.cz//GramonetCalLib 1.0//EN
CALSCALE:GREGORIAN
METHOD:PUBLISH
BEGIN:VEVENT
SUMMARY:Vinařský swap 2024
LOCATION:Koňský ranč Vinaře
DTSTART:20240608T000000
DTEND:20240609T000000
UID:2026-04-19-19-33-10@infocaslav.cz
DTSTAMP:20260419T173310
Description:Už nevíte co s oblečením? Kupí se Vám věci\, které nech
 cete\, ale je Vám jich líto\, je jen tak vyhodit? \nVyzkoušejte SWAP! T
 edy bezplatnou výměnu věcí.
END:VEVENT
END:VCALENDAR
