BEGIN:VCALENDAR
VERSION:2.0
PRODID:-//www.gramonet.cz//GramonetCalLib 1.0//EN
CALSCALE:GREGORIAN
METHOD:PUBLISH
BEGIN:VEVENT
SUMMARY:Vítání ptačího zpěvu 2024
LOCATION:
DTSTART:20240525T000000
DTEND:20240526T000000
UID:2026-04-19-19-34-32@infocaslav.cz
DTSTAMP:20260419T173432
Description:Vítání ptačího zpěvu 2024 + vyvěšování ptačí budky 
 proběhne v sobotu 25.5.2024 od 9 do 11 hodin u hráze rybníka Homolky a 
 Jirsáku.
END:VEVENT
END:VCALENDAR
