BEGIN:VCALENDAR
VERSION:2.0
PRODID:-//www.gramonet.cz//GramonetCalLib 1.0//EN
CALSCALE:GREGORIAN
METHOD:PUBLISH
BEGIN:VEVENT
SUMMARY:VLADIMÍR HRON – ABECEDA HVĚZD PO 20 LETECH
LOCATION:Dusíkovo divadlo Čáslav, Masarykova 194/36
DTSTART:20220406T000000
DTEND:20220407T000000
UID:2026-04-19-21-20-02@infocaslav.cz
DTSTAMP:20260419T192002
Description:
END:VEVENT
END:VCALENDAR
