BEGIN:VCALENDAR
VERSION:2.0
PRODID:-//www.gramonet.cz//GramonetCalLib 1.0//EN
CALSCALE:GREGORIAN
METHOD:PUBLISH
BEGIN:VEVENT
SUMMARY:Vladimír Komárek - Obrazy
LOCATION:Dusíkovo divadlo Čáslav
DTSTART:20240906T000000
DTEND:20241216T000000
UID:2026-04-19-19-34-39@infocaslav.cz
DTSTAMP:20260419T173439
Description:Výstavu - Vladimír Komárek - Obrazy\, zahájí ve čtvrtek 5
 . září od 18 hodin Jan Ding\, přítel malíře a konec výstavy je pl
 novaný na 15. prosince. 2024
END:VEVENT
END:VCALENDAR
