BEGIN:VCALENDAR
VERSION:2.0
PRODID:-//www.gramonet.cz//GramonetCalLib 1.0//EN
CALSCALE:GREGORIAN
METHOD:PUBLISH
BEGIN:VEVENT
SUMMARY:Vlastivědný výlet
LOCATION:
DTSTART:20240618T000000
DTEND:20240619T000000
UID:2026-04-19-19-30-00@infocaslav.cz
DTSTAMP:20260419T173000
Description:Vlastivědný výlet do Ratají nad Sázavou se koná 18.6. 202
 4. Odjezd autobusem od vlakového nádraží v 15:00. Účastnický poplat
 ek 100 Kč
END:VEVENT
END:VCALENDAR
