BEGIN:VCALENDAR
VERSION:2.0
PRODID:-//www.gramonet.cz//GramonetCalLib 1.0//EN
CALSCALE:GREGORIAN
METHOD:PUBLISH
BEGIN:VEVENT
SUMMARY:Vokální koncert od baroka po verismus
LOCATION:Dusíkovo divadlo
DTSTART:20240327T000000
DTEND:20240328T000000
UID:2026-04-19-21-08-35@infocaslav.cz
DTSTAMP:20260419T190835
Description:
END:VEVENT
END:VCALENDAR
