BEGIN:VCALENDAR
VERSION:2.0
PRODID:-//www.gramonet.cz//GramonetCalLib 1.0//EN
CALSCALE:GREGORIAN
METHOD:PUBLISH
BEGIN:VEVENT
SUMMARY:Votvírák na cestách
LOCATION:Grand, nám. Jana Žižky z Trocnova 74/11
DTSTART:20220305T000000
DTEND:20220306T000000
UID:2026-04-19-19-31-19@infocaslav.cz
DTSTAMP:20260419T173119
Description:
END:VEVENT
END:VCALENDAR
