BEGIN:VCALENDAR
VERSION:2.0
PRODID:-//www.gramonet.cz//GramonetCalLib 1.0//EN
CALSCALE:GREGORIAN
METHOD:PUBLISH
BEGIN:VEVENT
SUMMARY:Vraždi všímavě
LOCATION:Knihovna Kostelní nám. 197 Čáslav
DTSTART:20250120T000000
DTEND:20250121T000000
UID:2026-04-19-19-29-43@infocaslav.cz
DTSTAMP:20260419T172943
Description:
END:VEVENT
END:VCALENDAR
