BEGIN:VCALENDAR
VERSION:2.0
PRODID:-//www.gramonet.cz//GramonetCalLib 1.0//EN
CALSCALE:GREGORIAN
METHOD:PUBLISH
BEGIN:VEVENT
SUMMARY:Vřískot
LOCATION:Kino Miloše Formana, Jeníkovská 138/25
DTSTART:20220127T000000
DTEND:20220128T000000
UID:2026-04-19-19-28-43@infocaslav.cz
DTSTAMP:20260419T172843
Description:
END:VEVENT
END:VCALENDAR
