BEGIN:VCALENDAR
VERSION:2.0
PRODID:-//www.gramonet.cz//GramonetCalLib 1.0//EN
CALSCALE:GREGORIAN
METHOD:PUBLISH
BEGIN:VEVENT
SUMMARY:VÝLET NA ZÁMEK ŽLEBY
LOCATION:Rodinné centrum Kopretina, Kostelní náměstí 186/2
DTSTART:20220602T000000
DTEND:20220603T000000
UID:2026-04-19-19-34-41@infocaslav.cz
DTSTAMP:20260419T173441
Description:
END:VEVENT
END:VCALENDAR
