BEGIN:VCALENDAR
VERSION:2.0
PRODID:-//www.gramonet.cz//GramonetCalLib 1.0//EN
CALSCALE:GREGORIAN
METHOD:PUBLISH
BEGIN:VEVENT
SUMMARY:Vypichované aranžmá ze sušených květin
LOCATION:Městské muzeum Čáslav, Husova 291/3, 28601
DTSTART:20250926T000000
DTEND:20250927T000000
UID:2026-04-19-19-28-01@infocaslav.cz
DTSTAMP:20260419T172801
Description:
END:VEVENT
END:VCALENDAR
