BEGIN:VCALENDAR
VERSION:2.0
PRODID:-//www.gramonet.cz//GramonetCalLib 1.0//EN
CALSCALE:GREGORIAN
METHOD:PUBLISH
BEGIN:VEVENT
SUMMARY:Vypsaná fixa
LOCATION:hotel Grand
DTSTART:20230310T000000
DTEND:20230311T000000
UID:2026-04-19-21-02-23@infocaslav.cz
DTSTAMP:20260419T190223
Description:
END:VEVENT
END:VCALENDAR
