BEGIN:VCALENDAR
VERSION:2.0
PRODID:-//www.gramonet.cz//GramonetCalLib 1.0//EN
CALSCALE:GREGORIAN
METHOD:PUBLISH
BEGIN:VEVENT
SUMMARY:Výroba adventních věnců
LOCATION:RC Kopretina
DTSTART:20221124T000000
DTEND:20221125T000000
UID:2026-04-19-19-32-05@infocaslav.cz
DTSTAMP:20260419T173205
Description:
END:VEVENT
END:VCALENDAR
