BEGIN:VCALENDAR
VERSION:2.0
PRODID:-//www.gramonet.cz//GramonetCalLib 1.0//EN
CALSCALE:GREGORIAN
METHOD:PUBLISH
BEGIN:VEVENT
SUMMARY:VÝROBA PRÁZDNINOVÉHO DENÍKU
LOCATION:Rodinné centrum Kopretina, Kostelní náměstí 186/2
DTSTART:20220616T000000
DTEND:20220617T000000
UID:2026-04-19-19-34-14@infocaslav.cz
DTSTAMP:20260419T173414
Description:
END:VEVENT
END:VCALENDAR
