BEGIN:VCALENDAR
VERSION:2.0
PRODID:-//www.gramonet.cz//GramonetCalLib 1.0//EN
CALSCALE:GREGORIAN
METHOD:PUBLISH
BEGIN:VEVENT
SUMMARY:VÝROČÍ KORUNOVACE PANNY MARIE ĆÁSLAVSKÉ
LOCATION:Kostel sv. Petra a Pavla Čáslav
DTSTART:20250601T000000
DTEND:20250602T000000
UID:2026-04-19-19-37-29@infocaslav.cz
DTSTAMP:20260419T173729
Description:
END:VEVENT
END:VCALENDAR
