BEGIN:VCALENDAR
VERSION:2.0
PRODID:-//www.gramonet.cz//GramonetCalLib 1.0//EN
CALSCALE:GREGORIAN
METHOD:PUBLISH
BEGIN:VEVENT
SUMMARY:Divadlo dvou světů
LOCATION:Divadlo
DTSTART:20220915T000000
DTEND:20221219T000000
UID:2026-04-19-19-35-17@infocaslav.cz
DTSTAMP:20260419T173517
Description:
END:VEVENT
END:VCALENDAR
