BEGIN:VCALENDAR
VERSION:2.0
PRODID:-//www.gramonet.cz//GramonetCalLib 1.0//EN
CALSCALE:GREGORIAN
METHOD:PUBLISH
BEGIN:VEVENT
SUMMARY:Výstava obrazů Terezy a Stanislava Divišových
LOCATION:foyer Dusíkova divadla Čáslav
DTSTART:20260122T000000
DTEND:20260401T000000
UID:2026-04-19-19-36-25@infocaslav.cz
DTSTAMP:20260419T173625
Description:
END:VEVENT
END:VCALENDAR
