BEGIN:VCALENDAR
VERSION:2.0
PRODID:-//www.gramonet.cz//GramonetCalLib 1.0//EN
CALSCALE:GREGORIAN
METHOD:PUBLISH
BEGIN:VEVENT
SUMMARY:Výstava Oka-mžiky
LOCATION:Regionální muzeum Skuteč
DTSTART:20240223T000000
DTEND:20240311T000000
UID:2026-04-19-19-34-02@infocaslav.cz
DTSTAMP:20260419T173402
Description:
END:VEVENT
END:VCALENDAR
