BEGIN:VCALENDAR
VERSION:2.0
PRODID:-//www.gramonet.cz//GramonetCalLib 1.0//EN
CALSCALE:GREGORIAN
METHOD:PUBLISH
BEGIN:VEVENT
SUMMARY:Výstava Vladimír Císař a Tomáš Sajvera
LOCATION:Výstavní síň Městského muzea Čáslav
DTSTART:20241112T000000
DTEND:20241125T000000
UID:2026-04-19-19-36-10@infocaslav.cz
DTSTAMP:20260419T173610
Description:
END:VEVENT
END:VCALENDAR
