BEGIN:VCALENDAR
VERSION:2.0
PRODID:-//www.gramonet.cz//GramonetCalLib 1.0//EN
CALSCALE:GREGORIAN
METHOD:PUBLISH
BEGIN:VEVENT
SUMMARY:Výstava - Žižka ze všech stran
LOCATION:Galerie městského muzea
DTSTART:20240611T000000
DTEND:20240929T000000
UID:2026-04-19-19-35-49@infocaslav.cz
DTSTAMP:20260419T173549
Description:Srdečně Vás zveme na výstavu výtvarných prací studentů 
 SOŠPg a Gymnázia Čáslav.\nOtevřeno úterý až sobota 10-12/ 14-17 ho
 din
END:VEVENT
END:VCALENDAR
