BEGIN:VCALENDAR
VERSION:2.0
PRODID:-//www.gramonet.cz//GramonetCalLib 1.0//EN
CALSCALE:GREGORIAN
METHOD:PUBLISH
BEGIN:VEVENT
SUMMARY:Výtvarné hry, hračky a hračičky
LOCATION:Galerie městského muzea Čáslav, Jeníkovská 222
DTSTART:20250522T000000
DTEND:20250605T000000
UID:2026-04-19-19-35-57@infocaslav.cz
DTSTAMP:20260419T173557
Description:
END:VEVENT
END:VCALENDAR
