BEGIN:VCALENDAR
VERSION:2.0
PRODID:-//www.gramonet.cz//GramonetCalLib 1.0//EN
CALSCALE:GREGORIAN
METHOD:PUBLISH
BEGIN:VEVENT
SUMMARY:Výtvarníci čáslavska - Karel Pazderský
LOCATION:Galerie městského muzea
DTSTART:20240402T000000
DTEND:20240623T000000
UID:2026-04-19-19-37-33@infocaslav.cz
DTSTAMP:20260419T173733
Description:
END:VEVENT
END:VCALENDAR
