BEGIN:VCALENDAR
VERSION:2.0
PRODID:-//www.gramonet.cz//GramonetCalLib 1.0//EN
CALSCALE:GREGORIAN
METHOD:PUBLISH
BEGIN:VEVENT
SUMMARY:Výtvarníci čáslavska
LOCATION:Městské muzeum
DTSTART:20230808T000000
DTEND:20231029T000000
UID:2026-04-19-19-34-46@infocaslav.cz
DTSTAMP:20260419T173446
Description:
END:VEVENT
END:VCALENDAR
