BEGIN:VCALENDAR
VERSION:2.0
PRODID:-//www.gramonet.cz//GramonetCalLib 1.0//EN
CALSCALE:GREGORIAN
METHOD:PUBLISH
BEGIN:VEVENT
SUMMARY:Vzpomínka na Karla Gotta a českou písničku
LOCATION:Třemošnice
DTSTART:20241116T000000
DTEND:20241117T000000
UID:2026-04-19-21-07-17@infocaslav.cz
DTSTAMP:20260419T190717
Description:Večerem provádí kapela The People a začátek akce je 17:00 
 v KD v Třemošnice.
END:VEVENT
END:VCALENDAR
