BEGIN:VCALENDAR
VERSION:2.0
PRODID:-//www.gramonet.cz//GramonetCalLib 1.0//EN
CALSCALE:GREGORIAN
METHOD:PUBLISH
BEGIN:VEVENT
SUMMARY:Vzpomínková akce - 85. výročí přijetí mnichovské dohody
LOCATION:Městský hřbitov, Nová scéna Dusíkova divadla
DTSTART:20231005T000000
DTEND:20231006T000000
UID:2026-04-19-19-37-26@infocaslav.cz
DTSTAMP:20260419T173726
Description:Vzpomínková akce bude zahájena v 8:15 na městském hřbitov
 ě v Čáslavi\, kde jsou uloženy ostatky brigádního generála F. Morav
 ce. Od 9:00 proběhne odborná konference na Nové scéně Dusíkova divad
 la v Čáslavi.
END:VEVENT
END:VCALENDAR
