BEGIN:VCALENDAR
VERSION:2.0
PRODID:-//www.gramonet.cz//GramonetCalLib 1.0//EN
CALSCALE:GREGORIAN
METHOD:PUBLISH
BEGIN:VEVENT
SUMMARY:Vzpomínkový koncert na Zdeňka Kožinu
LOCATION:Dusíkovo divadlo Čáslav, Masarykova 194/36
DTSTART:20220228T000000
DTEND:20220301T000000
UID:2026-04-19-21-22-50@infocaslav.cz
DTSTAMP:20260419T192250
Description:
END:VEVENT
END:VCALENDAR
