BEGIN:VCALENDAR
VERSION:2.0
PRODID:-//www.gramonet.cz//GramonetCalLib 1.0//EN
CALSCALE:GREGORIAN
METHOD:PUBLISH
BEGIN:VEVENT
SUMMARY:WIII. Charitativní BAZAR
LOCATION:KD Lorec Kutná Hora
DTSTART:20250822T000000
DTEND:20250825T000000
UID:2026-04-19-19-26-34@infocaslav.cz
DTSTAMP:20260419T172634
Description:
END:VEVENT
END:VCALENDAR
