BEGIN:VCALENDAR
VERSION:2.0
PRODID:-//www.gramonet.cz//GramonetCalLib 1.0//EN
CALSCALE:GREGORIAN
METHOD:PUBLISH
BEGIN:VEVENT
SUMMARY:Workshop - JAK SE DĚLÁ SOCHA
LOCATION:Galerie městského muzea
DTSTART:20241109T000000
DTEND:20241110T000000
UID:2026-04-19-21-05-31@infocaslav.cz
DTSTAMP:20260419T190531
Description:Městské muzeu Čáslav srdečně zve na tvořivé odpoledne p
 ro děti a rodiče. \nVstupné 50kč /dítě
END:VEVENT
END:VCALENDAR
