BEGIN:VCALENDAR
VERSION:2.0
PRODID:-//www.gramonet.cz//GramonetCalLib 1.0//EN
CALSCALE:GREGORIAN
METHOD:PUBLISH
BEGIN:VEVENT
SUMMARY:XL. Slavnosti lesního rohu 2024
LOCATION:Starkoč a Žehušice
DTSTART:20240621T000000
DTEND:20240623T000000
UID:2026-04-19-19-36-42@infocaslav.cz
DTSTAMP:20260419T173642
Description:
END:VEVENT
END:VCALENDAR
