BEGIN:VCALENDAR
VERSION:2.0
PRODID:-//www.gramonet.cz//GramonetCalLib 1.0//EN
CALSCALE:GREGORIAN
METHOD:PUBLISH
BEGIN:VEVENT
SUMMARY:XXIV. Historické slavnosti ve Zruči nad Sázavou
LOCATION:V zámeckém parku ve Zruči nad Sázavou
DTSTART:20240803T000000
DTEND:20240804T000000
UID:2026-04-19-19-37-18@infocaslav.cz
DTSTAMP:20260419T173718
Description:XXIV. Historické slavnosti ve Zruči nad Sázavou\, začátek 
 akce je 3.8.2024 od 10:00 do 20:00. Cena vstupného dospělí 150 Kč\, d
 ti\, důchodci a studenti 100 Kč a děti do výše meče zdarma.
END:VEVENT
END:VCALENDAR
