BEGIN:VCALENDAR
VERSION:2.0
PRODID:-//www.gramonet.cz//GramonetCalLib 1.0//EN
CALSCALE:GREGORIAN
METHOD:PUBLISH
BEGIN:VEVENT
SUMMARY:Yellow sisters
LOCATION:Synagoga v Čáslavi
DTSTART:20251010T000000
DTEND:20251011T000000
UID:2026-04-19-20-57-34@infocaslav.cz
DTSTAMP:20260419T185734
Description:
END:VEVENT
END:VCALENDAR
