BEGIN:VCALENDAR
VERSION:2.0
PRODID:-//www.gramonet.cz//GramonetCalLib 1.0//EN
CALSCALE:GREGORIAN
METHOD:PUBLISH
BEGIN:VEVENT
SUMMARY:Za vším hledej ženu
LOCATION:Kino
DTSTART:20221110T000000
DTEND:20221112T000000
UID:2026-04-19-19-26-42@infocaslav.cz
DTSTAMP:20260419T172642
Description:
END:VEVENT
END:VCALENDAR
