BEGIN:VCALENDAR
VERSION:2.0
PRODID:-//www.gramonet.cz//GramonetCalLib 1.0//EN
CALSCALE:GREGORIAN
METHOD:PUBLISH
BEGIN:VEVENT
SUMMARY:Zábavné odpoledne pro děti
LOCATION:Hřiště Bernardov
DTSTART:20240831T000000
DTEND:20240901T000000
UID:2026-04-19-19-35-17@infocaslav.cz
DTSTAMP:20260419T173517
Description:Přijďte s dětmi na Zábavné odpoledne pro děti na hřišt
  Bernardov od 15:00 hodin.
END:VEVENT
END:VCALENDAR
