BEGIN:VCALENDAR
VERSION:2.0
PRODID:-//www.gramonet.cz//GramonetCalLib 1.0//EN
CALSCALE:GREGORIAN
METHOD:PUBLISH
BEGIN:VEVENT
SUMMARY:Zábavné odpoledne pro děti
LOCATION:Třemošnice
DTSTART:20240921T000000
DTEND:20240922T000000
UID:2026-04-19-19-36-05@infocaslav.cz
DTSTAMP:20260419T173605
Description:RC Třemánek pořádá zábavné odpoledne pro děti\, dne 21.
 09.2024 od 14:00 do 16:00 v Třemošnici v Areálu bývalého koupaliště
 . V  případě nepříznivého počasí bude program zrušen.
END:VEVENT
END:VCALENDAR
